BEGIN:VCALENDAR
VERSION:2.0
PRODID:-//PS Suisse - ECPv6.15.17.1//NONSGML v1.0//EN
CALSCALE:GREGORIAN
METHOD:PUBLISH
X-WR-CALNAME:PS Suisse
X-ORIGINAL-URL:https://staging.sp-ps.ch/fr/
X-WR-CALDESC:Évènements pour PS Suisse
REFRESH-INTERVAL;VALUE=DURATION:PT1H
X-Robots-Tag:noindex
X-PUBLISHED-TTL:PT1H
BEGIN:VTIMEZONE
TZID:Europe/Zurich
BEGIN:DAYLIGHT
TZOFFSETFROM:+0100
TZOFFSETTO:+0200
TZNAME:CEST
DTSTART:20240331T010000
END:DAYLIGHT
BEGIN:STANDARD
TZOFFSETFROM:+0200
TZOFFSETTO:+0100
TZNAME:CET
DTSTART:20241027T010000
END:STANDARD
BEGIN:DAYLIGHT
TZOFFSETFROM:+0100
TZOFFSETTO:+0200
TZNAME:CEST
DTSTART:20250330T010000
END:DAYLIGHT
BEGIN:STANDARD
TZOFFSETFROM:+0200
TZOFFSETTO:+0100
TZNAME:CET
DTSTART:20251026T010000
END:STANDARD
BEGIN:DAYLIGHT
TZOFFSETFROM:+0100
TZOFFSETTO:+0200
TZNAME:CEST
DTSTART:20260329T010000
END:DAYLIGHT
BEGIN:STANDARD
TZOFFSETFROM:+0200
TZOFFSETTO:+0100
TZNAME:CET
DTSTART:20261025T010000
END:STANDARD
END:VTIMEZONE
BEGIN:VEVENT
DTSTART;TZID=Europe/Zurich:20250124T111500
DTEND;TZID=Europe/Zurich:20250124T150000
DTSTAMP:20260420T135111
CREATED:20250106T152014Z
LAST-MODIFIED:20250130T131125Z
UID:151530-1737717300-1737730800@staging.sp-ps.ch
SUMMARY:Assemblée des délégué-es du PS60+
DESCRIPTION:Les délégués du PS60+ sont invités à cette manifestation. \n\nVendredi\, 24 janvier 2025\, 11h15 – 15h00\nCentre de conférence Unia\, Weltpoststrasse 20\, 3000 Berne\nGrande salle A\, 1er étage\, plan d’accès\nPrésidence : Rita Schmid / Dominique Hausser (coprésidence)\n\n  \nOrdre du jour\n  \n1. Bienvenu \n\nRétrospective et perspectives 2024 / 2025\nCommuniqué de presse du 17.01.2025\n\nAdieu: Rosa Maria Zegg (GR)\nBienvenue: Doris Mudry (VS)\n\n  \n2. Ordre du jour\n \n\nInvitation\nPrésantation du jour\n\n  \n3. Procès verbal du 12.12.2024 \n\nProcès verbal et Présentation de l’AD du 12.12.2024\nCompte rendu d’André Liechti\n\n  \n4. Priorité 2025 : le système de santé en tant que service public\n \n\nRapport du groupe de travail « Santé » (en allemand) et Présentation de l’AD 12.12.2024 (pages 20 à 32)\nMise en œuvre dans le groupe de travail « Santé »\nAttribution du mandat au groupe de travail « Santé »\n\n  \nPause avec collation 12h45 – 13h30 \n  \n5. Mobilisation 2025 : activités et actions\n \n\nPrésentation du GT Politique sociale de l’AD 12.12.2024 (pages 33 à 45)\nTravail de groupe sur thèmes et actions envisagés en 2025\nSuite de la procédure\n\n  \n6. Résolutions et propositions\n \n\nRésolution « Compensation du renchérissement pour les rentes du 2e pilier ! »\nPropositions des délégués à 60plus@pssuisse.ch\n\n  \n7. Mises à jour et informations \n\nIntelligence artificielle\nPapier d’inclusion\nAccès automatique aux prestations sociales\n\n  \n\nVotation populaire : initiative pour la responsabilité environnementale\nRécoltes actuelles de signatures\n\n  \n\ndu secrétariat du PS60+\ndes organes du PS Suisse\n\n  \n9. Divers \n\nInformations des groupes cantonaux\nRapport PS 60+ Bâle-Campagne (en allemand)\n\n  \n\nDélais 2025\n\n 
URL:https://staging.sp-ps.ch/fr/agenda/assemblee-des-delegue-es-du-ps60/
LOCATION:Konferenzzentrum Unia\, Weltpoststrasse 20\, Bern\, Bern\, 3000\, Schweiz
ATTACH;FMTTYPE=image/jpeg:https://staging.sp-ps.ch/wp-content/uploads/2025/01/SP60_DV_2025-01-24_claudio-schwarz-unsplash.jpg
ORGANIZER;CN="SP60+":MAILTO:60plus@spschweiz.ch
END:VEVENT
END:VCALENDAR