BEGIN:VCALENDAR
VERSION:2.0
PRODID:-//PS Suisse - ECPv6.15.17.1//NONSGML v1.0//EN
CALSCALE:GREGORIAN
METHOD:PUBLISH
X-WR-CALNAME:PS Suisse
X-ORIGINAL-URL:https://staging.sp-ps.ch/fr/
X-WR-CALDESC:Évènements pour PS Suisse
REFRESH-INTERVAL;VALUE=DURATION:PT1H
X-Robots-Tag:noindex
X-PUBLISHED-TTL:PT1H
BEGIN:VTIMEZONE
TZID:Europe/Zurich
BEGIN:DAYLIGHT
TZOFFSETFROM:+0100
TZOFFSETTO:+0200
TZNAME:CEST
DTSTART:20250330T010000
END:DAYLIGHT
BEGIN:STANDARD
TZOFFSETFROM:+0200
TZOFFSETTO:+0100
TZNAME:CET
DTSTART:20251026T010000
END:STANDARD
BEGIN:DAYLIGHT
TZOFFSETFROM:+0100
TZOFFSETTO:+0200
TZNAME:CEST
DTSTART:20260329T010000
END:DAYLIGHT
BEGIN:STANDARD
TZOFFSETFROM:+0200
TZOFFSETTO:+0100
TZNAME:CET
DTSTART:20261025T010000
END:STANDARD
BEGIN:DAYLIGHT
TZOFFSETFROM:+0100
TZOFFSETTO:+0200
TZNAME:CEST
DTSTART:20270328T010000
END:DAYLIGHT
BEGIN:STANDARD
TZOFFSETFROM:+0200
TZOFFSETTO:+0100
TZNAME:CET
DTSTART:20271031T010000
END:STANDARD
END:VTIMEZONE
BEGIN:VEVENT
DTSTART;TZID=Europe/Zurich:20260124T111500
DTEND;TZID=Europe/Zurich:20260124T150000
DTSTAMP:20260420T120654
CREATED:20250724T073816Z
LAST-MODIFIED:20260219T085503Z
UID:165659-1769253300-1769266800@staging.sp-ps.ch
SUMMARY:Assemblée des délégué-es du PS60+
DESCRIPTION:Ordre du jour définitif\n\nSamedi\, 24 janvier 2026\, 11h15 – 15h00\nLieu : Berner Generationenhaus\, Bahnhofstrasse 2\, Berne\, plan d’accès\nPrésidence : coprésidence du PS60+\nInvitation : envoi 2\nPrésentation de la conférence\, communiqué de presse\, compte rendue d’André Liechti\n\n  \n1) Bienvenue \n\nAccueil des nouveaux délégué-es\nDépart des ancien-nes délégué-es\n\n  \n2) Ordre du jour \n\nAdoption\n\n  \n3) Procès-verbal \n\nProcès-verbal (à suivre) et présentation de l’AD du 21.11.2025\nCompte rendue d’André Liechti de l’Ad du 21.11.2025\n\n  \n4) L’avenir de la politique financière \n\nExposé introductif : Benoît Gaillard\, Conseil national PS du Canton de Vaud\nComuniqué de presse du PS Suisse\, 16.01.2026\nDiscussion et résolution (proposition du CD pour discussion)\n\n  \n5) Pause \n  \n6) L’avenir de la politique médiatique \n\nExposé introductif : Walter Langenegger\, Vice-président SSR Berne Fribourg Valais\nPage web NON à l’initiative anti-SSR\nDiscussion et résolution (proposition du CD pour discussion)\n\n  \n7) Mises à jour \n\nProcédure 2026/27 Priorité « Le système de santé est un service public ! »\nArguments pour voter NON à l’initiative « Pas de Suisse à 10 millions ! »\n\n  \n8) De l’ESO-PES \n\nRapport ESO-PES Vienne 2025\nRapport ESO-PES Amsterdam 2025\n\n  \n9) Groupes cantonaux \n\nCanton de Bâle-Campagne\nCanton de Bâle-Ville\nCanton de Berne\nCanton de Fribourg\nCanton de Genève\nCanton des Grisons\nCanton du Tessin\nCanton de Zurich\n\n  \n10) Dates \n\n28.02.2026 : Congrès du PS Suisse à Bienne\n24.04.2026 : Assemblée des délégué-es du PS60+ à Berne\n12.06.2026 : Conférence des membres du PS60+ à Bienne\n26.09.2026 : Assemblée des délégué-es du PS60+ à Berne\n17./18.10.2026 : Congrès du PS Suisse à Thoune\n\n  \n11) Divers \n  \nInscription\nVeuillez activer JavaScript dans votre navigateur pour remplir ce formulaire.Kantonalpartei / Parti cantonal *Vorname / Prénom *Nachname / Nom  *E-Mail-Adresse / Courriel  *		\n			 Parti Bemerkungen\n			\n		\n		Anmeldung / Inscription *Delegiertenversammlung /  Assemblée des délégué-es 24.04.2026Mitgliederkonferenz / Conférence des membre 12.06.2026Delegiertenversammlung /  Assemblée des délégué-es 26.09.2026Bemerkungen / Remarquesabsenden / envoyer
URL:https://staging.sp-ps.ch/fr/agenda/assemblee-des-delegue-ps60-2026-01-24/
LOCATION:Berner Generationenhaus\, Bahnhofplatz 2\, Bern\, Bern\, 3011\, Switzerland
ATTACH;FMTTYPE=image/jpeg:https://staging.sp-ps.ch/wp-content/uploads/2025/02/2024-innenhof_aleksandra-zrdavkovic_reduziert.jpg
ORGANIZER;CN="SP60+":MAILTO:60plus@spschweiz.ch
END:VEVENT
END:VCALENDAR