BEGIN:VCALENDAR
VERSION:2.0
PRODID:-//PS Suisse - ECPv6.15.17.1//NONSGML v1.0//EN
CALSCALE:GREGORIAN
METHOD:PUBLISH
X-WR-CALNAME:PS Suisse
X-ORIGINAL-URL:https://staging.sp-ps.ch/fr/
X-WR-CALDESC:Évènements pour PS Suisse
REFRESH-INTERVAL;VALUE=DURATION:PT1H
X-Robots-Tag:noindex
X-PUBLISHED-TTL:PT1H
BEGIN:VTIMEZONE
TZID:Europe/Zurich
BEGIN:DAYLIGHT
TZOFFSETFROM:+0100
TZOFFSETTO:+0200
TZNAME:CEST
DTSTART:20170326T010000
END:DAYLIGHT
BEGIN:STANDARD
TZOFFSETFROM:+0200
TZOFFSETTO:+0100
TZNAME:CET
DTSTART:20171029T010000
END:STANDARD
BEGIN:DAYLIGHT
TZOFFSETFROM:+0100
TZOFFSETTO:+0200
TZNAME:CEST
DTSTART:20180325T010000
END:DAYLIGHT
BEGIN:STANDARD
TZOFFSETFROM:+0200
TZOFFSETTO:+0100
TZNAME:CET
DTSTART:20181028T010000
END:STANDARD
BEGIN:DAYLIGHT
TZOFFSETFROM:+0100
TZOFFSETTO:+0200
TZNAME:CEST
DTSTART:20190331T010000
END:DAYLIGHT
BEGIN:STANDARD
TZOFFSETFROM:+0200
TZOFFSETTO:+0100
TZNAME:CET
DTSTART:20191027T010000
END:STANDARD
END:VTIMEZONE
BEGIN:VEVENT
DTSTART;TZID=Europe/Zurich:20181130T100000
DTEND;TZID=Europe/Zurich:20181201T200000
DTSTAMP:20260421T154924
CREATED:20180528T220000Z
LAST-MODIFIED:20220812T072517Z
UID:59377-1543572000-1543694400@staging.sp-ps.ch
SUMMARY:Congrès Brugg/Windisch (AG)
DESCRIPTION:Campussaal\, Bahnhofstrasse 6\, Brugg/WindischSamedi: 10h30 – 17h00Dimanche: 09h00 – 14h00 \n\nNotre économie (2018) – concept économique\nLaisser l’Europe aux nationalistes et aux xénophobes ou plaider en faveur d’une UE forte et sociale ? \nNon au diktat des caisses dans le financement des prestations de santé !\nMettre fin à la crise climatique – reconstruire l’économie sur un mode écologique\nPour une aide sociale moderne et juste !\nSolidarité avec toutes les régions de Suisse\nDes logements abordables pour tous – même à l’âge de la retraite !\nDocumentation finale\, incluant l’ordre du jour définitif et toutes les résolutions déposées\nDocumentation finale ‘Notre économie’ (avec les requêtes du délai 2)\nEnvoi 2 (invitation aux délégué-e-s)\nPapier en discussion ‘Notre économie’ (version retravaillée par le CD)\nFormulaire d’amendements ‘Notre économie’\nAide-mémoire aux amendements ‘Notre économie’\nRapport d’activité 2016 – 2017\nPapier de travail du CD du 26.10.18 ‘Notre économie’\nEnvoi 1 (Invitation aux sections)\nNouveau concept économique: Notre économie (Propositions pour une politique économique durable 2019 – 2029)\nLivret des sections (avec les instructions pour le nombre de délégué-e-s)\nProcès-verbal du Congrès deThoune des 3 et 4 décembre 2016\nDiscours de Simonetta Sommaruga\, conseillère fédérale\nDiscours de Christian Levrat\, président du PS Suisse\nDiscours de Liliane Maury Pasquier\, conseillère aux Etats (GE) et présidente de l’Assemblée parlementaire du Conseil de l’Europe\nDiscours d’Ada Marra\, nouvelle vice-présidente du PS Suisse\nPrésentation de Barbara Gysi sur l’initiative d’allègement des primes\nPaulo Pisco\, PS Portugal\, Député au Parlement national et à l’Assemblée parlementaire du Conseil de l’Europe
URL:https://staging.sp-ps.ch/fr/agenda/congres-brugg-windisch-ag/
CATEGORIES:Congrès
ATTACH;FMTTYPE=image/jpeg:https://staging.sp-ps.ch/wp-content/uploads/2022/08/campussaal.jpg
END:VEVENT
END:VCALENDAR