BEGIN:VCALENDAR
VERSION:2.0
PRODID:-//PS Suisse - ECPv6.15.17.1//NONSGML v1.0//EN
CALSCALE:GREGORIAN
METHOD:PUBLISH
X-WR-CALNAME:PS Suisse
X-ORIGINAL-URL:https://staging.sp-ps.ch/fr/
X-WR-CALDESC:Évènements pour PS Suisse
REFRESH-INTERVAL;VALUE=DURATION:PT1H
X-Robots-Tag:noindex
X-PUBLISHED-TTL:PT1H
BEGIN:VTIMEZONE
TZID:Europe/Zurich
BEGIN:DAYLIGHT
TZOFFSETFROM:+0100
TZOFFSETTO:+0200
TZNAME:CEST
DTSTART:20210328T010000
END:DAYLIGHT
BEGIN:STANDARD
TZOFFSETFROM:+0200
TZOFFSETTO:+0100
TZNAME:CET
DTSTART:20211031T010000
END:STANDARD
BEGIN:DAYLIGHT
TZOFFSETFROM:+0100
TZOFFSETTO:+0200
TZNAME:CEST
DTSTART:20220327T010000
END:DAYLIGHT
BEGIN:STANDARD
TZOFFSETFROM:+0200
TZOFFSETTO:+0100
TZNAME:CET
DTSTART:20221030T010000
END:STANDARD
BEGIN:DAYLIGHT
TZOFFSETFROM:+0100
TZOFFSETTO:+0200
TZNAME:CEST
DTSTART:20230326T010000
END:DAYLIGHT
BEGIN:STANDARD
TZOFFSETFROM:+0200
TZOFFSETTO:+0100
TZNAME:CET
DTSTART:20231029T010000
END:STANDARD
END:VTIMEZONE
BEGIN:VEVENT
DTSTART;TZID=Europe/Zurich:20220204T100000
DTEND;TZID=Europe/Zurich:20220205T200000
DTSTAMP:20260421T185142
CREATED:20220204T230000Z
LAST-MODIFIED:20220812T072521Z
UID:59473-1643968800-1644091200@staging.sp-ps.ch
SUMMARY:Congrès numérique du 5 février 2022
DESCRIPTION:original (sans traduction) \nLire cette vidéo sur YouTube \nen français\nLire cette vidéo sur YouTube \nSamedi\, 5 février 2022\, 10h00 \n\n\nPour une politique étrangère plus engagée en faveur des droits démocratiques\, des droits humains et de la lutte contre la pauvre\nPetite enfance – Des conditions de travail optimales pour assurer un accueil de qualité\nSécurité de l’approvisionnement en électricité à long terme – le PS pour le développement rapide des énergies renouvelables et p\nVidéos avec des explications pour le Congrès numérique\nDocumentation finale\, dont l’ordre du jour\nRévision des statuts : Version finale avec les propositions au Congrès\nCahier d’instruction sur l’outil numérique\nEnvoi 2 (Invitation aux délégué-e-s)\nRéforme des structures: version révisée des statuts \nRéforme des structures: formulaire d’amendements (pour déposer des amendements)\nRéforme des structures: le document de travail avec toutes les propositions du délai 1\nEnvoi 1 (Invitation aux sections)\nRévision des statuts: présentation synoptique des statuts\, y compris toutes les propositions reportées du 28.08.2021 \nRévision des statuts: Formulaire d’amendements\nRévision des statuts: statuts à partir du 01.01.2022\nLivret des sections (avec les instructions pour le nombre de délégué-e-s)\nProcès-verbal du Congrès du 28 août 2021 à Saint-Gall
URL:https://staging.sp-ps.ch/fr/agenda/congres-numerique-du-5-fevrier-2022/
CATEGORIES:Congrès
END:VEVENT
END:VCALENDAR