BEGIN:VCALENDAR
VERSION:2.0
PRODID:-//PS Suisse - ECPv6.15.17.1//NONSGML v1.0//EN
CALSCALE:GREGORIAN
METHOD:PUBLISH
X-WR-CALNAME:PS Suisse
X-ORIGINAL-URL:https://staging.sp-ps.ch/fr/
X-WR-CALDESC:Évènements pour PS Suisse
REFRESH-INTERVAL;VALUE=DURATION:PT1H
X-Robots-Tag:noindex
X-PUBLISHED-TTL:PT1H
BEGIN:VTIMEZONE
TZID:Europe/Zurich
BEGIN:DAYLIGHT
TZOFFSETFROM:+0100
TZOFFSETTO:+0200
TZNAME:CEST
DTSTART:20150329T010000
END:DAYLIGHT
BEGIN:STANDARD
TZOFFSETFROM:+0200
TZOFFSETTO:+0100
TZNAME:CET
DTSTART:20151025T010000
END:STANDARD
BEGIN:DAYLIGHT
TZOFFSETFROM:+0100
TZOFFSETTO:+0200
TZNAME:CEST
DTSTART:20160327T010000
END:DAYLIGHT
BEGIN:STANDARD
TZOFFSETFROM:+0200
TZOFFSETTO:+0100
TZNAME:CET
DTSTART:20161030T010000
END:STANDARD
BEGIN:DAYLIGHT
TZOFFSETFROM:+0100
TZOFFSETTO:+0200
TZNAME:CEST
DTSTART:20170326T010000
END:DAYLIGHT
BEGIN:STANDARD
TZOFFSETFROM:+0200
TZOFFSETTO:+0100
TZNAME:CET
DTSTART:20171029T010000
END:STANDARD
END:VTIMEZONE
BEGIN:VEVENT
DTSTART;TZID=Europe/Zurich:20161203T100000
DTEND;TZID=Europe/Zurich:20161204T200000
DTSTAMP:20260421T141511
CREATED:20161202T230000Z
LAST-MODIFIED:20220812T072511Z
UID:59247-1480759200-1480881600@staging.sp-ps.ch
SUMMARY:Congrès sur l'avenir à Thoune
DESCRIPTION:       \n\nPapier de position: Feuille de route Union européenne\nPapier de position: démocratie économique\nTurquie: pour la paix\, la liberté et les humains ! \nRéforme Prévoyance vieillesse 2020 : jusqu’ici\, mais pas au-delà!\nPour une représentation active des intérêts et des demandes progressistes des Suisse-sse-s de l’étranger\nPour le rétablissement de relations harmonieuses avec l’Union européenne\nAccords Dublin – la Suisse ne doit plus séparer des familles\nPour un renforcement du pouvoir d’achat\nPlan d’action sur le thème de l’égalité des personnes handicapées\nClarification des statuts du PS Suisse pour le lancement ou le soutien à un référendum\nDiscours de Christian Levrat\, président du PS Suisse – version francophone\nDiscours de Simonetta Sommaruga\, conseillère fédérale – version allemande\nDiscours de Jean Asselborn\, ministre des Affaires étrangères\, de l’Immigration et de l’Asile du Luxembourg\nDiscours de Moritz Leuenberger\, a. conseiller fédéral\, lors de la fête du Congrès (en allemand)\nDocumentation finale\, incluant notamment l’ordre du jour définitif et toutes les résolutions déposées\nDocumentation finale « Démocratie économique »\nDocumentation finale « Futur PS »\nDocumentation finale « Feuille de route Europe – chapitre V »\nEvoi 2 (Invitation avec ordre du jour définitif)\nPapier en discussion „Démocratie économique“ (version retravaillée par le CD)\nPropositions adressées au Congrès ‘Futur PS’\nFeuille de Route UE (Chapitre V)\nRapport d’activité 2014-2015\nEnvoi I (invitation aux sections)\nPapier de position Démocratie économique\nPropositions concernant le projet Futur PS\nPapiers ‘Futur PS’ et ‘Démocratie économique’\nLivret des sections (avec des instructions pour le nombre de délégué-e-s)\nProcès-verbal du Congrès à Martigny du 14.02.15 (en allemand)\nPapier de travail du CD du 28.10.16 „Démocratie économique“\nPapier de travail du CD du 28.10.16 ‘Futur PS’
URL:https://staging.sp-ps.ch/fr/agenda/congres-sur-lavenir-a-thoune/
CATEGORIES:Congrès
ATTACH;FMTTYPE=image/jpeg:https://staging.sp-ps.ch/wp-content/uploads/2022/08/datei_03.12.16_10_45_07_0.jpeg
END:VEVENT
END:VCALENDAR