BEGIN:VCALENDAR
VERSION:2.0
PRODID:-//SP Schweiz - ECPv6.15.17.1//NONSGML v1.0//EN
CALSCALE:GREGORIAN
METHOD:PUBLISH
X-WR-CALNAME:SP Schweiz
X-ORIGINAL-URL:https://staging.sp-ps.ch
X-WR-CALDESC:Veranstaltungen für SP Schweiz
REFRESH-INTERVAL;VALUE=DURATION:PT1H
X-Robots-Tag:noindex
X-PUBLISHED-TTL:PT1H
BEGIN:VTIMEZONE
TZID:Europe/Zurich
BEGIN:DAYLIGHT
TZOFFSETFROM:+0100
TZOFFSETTO:+0200
TZNAME:CEST
DTSTART:20240331T010000
END:DAYLIGHT
BEGIN:STANDARD
TZOFFSETFROM:+0200
TZOFFSETTO:+0100
TZNAME:CET
DTSTART:20241027T010000
END:STANDARD
BEGIN:DAYLIGHT
TZOFFSETFROM:+0100
TZOFFSETTO:+0200
TZNAME:CEST
DTSTART:20250330T010000
END:DAYLIGHT
BEGIN:STANDARD
TZOFFSETFROM:+0200
TZOFFSETTO:+0100
TZNAME:CET
DTSTART:20251026T010000
END:STANDARD
BEGIN:DAYLIGHT
TZOFFSETFROM:+0100
TZOFFSETTO:+0200
TZNAME:CEST
DTSTART:20260329T010000
END:DAYLIGHT
BEGIN:STANDARD
TZOFFSETFROM:+0200
TZOFFSETTO:+0100
TZNAME:CET
DTSTART:20261025T010000
END:STANDARD
END:VTIMEZONE
BEGIN:VEVENT
DTSTART;TZID=Europe/Zurich:20250124T111500
DTEND;TZID=Europe/Zurich:20250124T150000
DTSTAMP:20260420T153726
CREATED:20250106T150456Z
LAST-MODIFIED:20250130T130855Z
UID:151512-1737717300-1737730800@staging.sp-ps.ch
SUMMARY:Delegiertenversammlung der SP60+
DESCRIPTION:Zu diesem Anlass sind die Delegierten der SP60+ eingeladen. \n\nFreitag\, 24. Januar 2025\, 11:15 Uhr – 15:00 Uhr\nKonferenzzentrum Unia\, Weltpoststrasse 20\, 3000 Bern\nGrosser Saal A\, 1. Stock\,  Anreiseplan\nLeitung: Rita Schmid / Dominique Hausser (Co-Präsidium)\n\n  \nTraktanden\n  \n1. Begrüssung \n\nRück- und Ausblick 2024 / 2025\nMedienmitteilung vom 17.02.2025\n\nVerabschiedung Rosa Maria Zegg (GR)\nBegrüssung Doris Mudry (VS)\n\n  \n2. Traktandenliste\n \n\nEinladung\nTagungspräsentation\n\n  \n3. Protokoll vom 12.12.2024 \n\nProtokoll und Tagungspräsentation\nBerichterstattung von André Liechti\n\n  \n4. Schwerpunkt 2025: Gesundheitssystem als Service Public\n \n\nJahresbericht der Arbeitsgruppe Gesundheit und Präsentation DV 12.12.2024 (Charts 20 bis 32)\nUmsetzung in der Arbeitsgruppe Gesundheit\nAuftragsersteilung an die Arbeitsgruppe Gesundheit\n\n  \nPause mit Verpflegung von 12:45Uhr – 13:30 Uhr \n  \n5. Mobilisierung 2025: Aktiviäten und Aktionen\n \n\nPräsentation Arbeitsgruppe Sozialpolitik DV 12.12.2024 (Chart 33 bis 45)\nGruppenarbeit als Brainstorming über mögliche Inhalte und Aktionen 2025\nWeiteres Vorgehen\n\n  \n6. Resolutionen und Anträge \n\nResolution «Teuerungsausgleich für Renten der 2. Säule»\nAnträge von Delegierten an 60plus@spschweiz.ch\n\n  \n7. Updates und Informationen \n\nKünstliche Intelligenz\nInklusionspapier\nAutomatisierung bedarfsgerechte Sozialleistungen\n\n  \n\nAbstimmung Umweltverantwortungsinitiative\nAktuelle Unterschriftensammlungen\n\n  \n\nAus dem Sekretariat der SP60+\nAus den Organen der SP Schweiz\n\n  \n9. Varia \n\nAus den kantonalen Gruppen\nBericht SP60+ Kanton Baselland\n\n  \n\nTermine 2025\n\n 
URL:https://staging.sp-ps.ch/veranstaltung/delegiertenversammlung-der-sp60/
LOCATION:Konferenzzentrum Unia\, Weltpoststrasse 20\, Bern\, Bern\, 3000\, Schweiz
ATTACH;FMTTYPE=image/jpeg:https://staging.sp-ps.ch/wp-content/uploads/2025/01/SP60_DV_2025-01-24_claudio-schwarz-unsplash.jpg
ORGANIZER;CN="SP60+":MAILTO:60plus@spschweiz.ch
END:VEVENT
END:VCALENDAR