BEGIN:VCALENDAR
VERSION:2.0
PRODID:-//SP Schweiz - ECPv6.15.17.1//NONSGML v1.0//EN
CALSCALE:GREGORIAN
METHOD:PUBLISH
X-WR-CALNAME:SP Schweiz
X-ORIGINAL-URL:https://staging.sp-ps.ch
X-WR-CALDESC:Veranstaltungen für SP Schweiz
REFRESH-INTERVAL;VALUE=DURATION:PT1H
X-Robots-Tag:noindex
X-PUBLISHED-TTL:PT1H
BEGIN:VTIMEZONE
TZID:Europe/Zurich
BEGIN:DAYLIGHT
TZOFFSETFROM:+0100
TZOFFSETTO:+0200
TZNAME:CEST
DTSTART:20210328T010000
END:DAYLIGHT
BEGIN:STANDARD
TZOFFSETFROM:+0200
TZOFFSETTO:+0100
TZNAME:CET
DTSTART:20211031T010000
END:STANDARD
BEGIN:DAYLIGHT
TZOFFSETFROM:+0100
TZOFFSETTO:+0200
TZNAME:CEST
DTSTART:20220327T010000
END:DAYLIGHT
BEGIN:STANDARD
TZOFFSETFROM:+0200
TZOFFSETTO:+0100
TZNAME:CET
DTSTART:20221030T010000
END:STANDARD
BEGIN:DAYLIGHT
TZOFFSETFROM:+0100
TZOFFSETTO:+0200
TZNAME:CEST
DTSTART:20230326T010000
END:DAYLIGHT
BEGIN:STANDARD
TZOFFSETFROM:+0200
TZOFFSETTO:+0100
TZNAME:CET
DTSTART:20231029T010000
END:STANDARD
END:VTIMEZONE
BEGIN:VEVENT
DTSTART;TZID=Europe/Zurich:20220204T100000
DTEND;TZID=Europe/Zurich:20220205T200000
DTSTAMP:20260421T171717
CREATED:20220204T230000Z
LAST-MODIFIED:20221124T223348Z
UID:58812-1643968800-1644091200@staging.sp-ps.ch
SUMMARY:Digitaler Parteitag vom 5. Februar 2022
DESCRIPTION:Stream Originalton\nDieses Video auf YouTube ansehen \nStream auf Deutsch\nDieses Video auf YouTube ansehen \nitaliano\nDieses Video auf YouTube ansehen \nSamstag\, 5. Februar 2022\, 10.00 Uhr \n\nLangfristige Stromversorgungssicherheit – die SP für den schnellen Zubau von erneuerbaren Energien und für zukunftsfähige Arbeit\nFrühe Kindheit – optimale Arbeitsbedingungen für eine erstklassige Betreuung\nFür eine engagierte Aussenpolitik – für Demokratie\, Menschenrechte und den Kampf gegen Armut \nErklärvideos Anmeldung und Wortmeldung\nSchlussdokumentation inklusive definitiver Traktandenliste\nStatutenrevision: Schlussdokumentation mit den Anträgen an den Parteitag\nInstruktionsheft für das digitale SP-Tool\nVersandheft 2 (Einladung an die Delegierten)\nStrukturreform: überarbeitete Fassung Statutenrevision \nStrukturreform: Antragsformular zum Einreichen von Anträgen\nStrukturreform: Arbeitspapier mit allen Anträgen aus Frist 1\nVersand 1 (Einladung an die Sektionen)\nStatutenrevision: synoptische Darstellung der Statuten inkl. aller verschobenen Anträge vom 28.08.2021\nStatutenrevision: Antragsformular\nStatutenrevision: Statuten ab 01.01.2022\nSektionsbüchlein (mit den Delegiertenzahlen für Sektionen)\nProtokoll des Parteitags vom 28. August 2021 in St. Gallen
URL:https://staging.sp-ps.ch/veranstaltung/digitaler-parteitag-vom-5-februar-2022/
CATEGORIES:Parteitag
END:VEVENT
END:VCALENDAR