BEGIN:VCALENDAR
VERSION:2.0
PRODID:-//SP Schweiz - ECPv6.15.17.1//NONSGML v1.0//EN
CALSCALE:GREGORIAN
METHOD:PUBLISH
X-WR-CALNAME:SP Schweiz
X-ORIGINAL-URL:https://staging.sp-ps.ch
X-WR-CALDESC:Veranstaltungen für SP Schweiz
REFRESH-INTERVAL;VALUE=DURATION:PT1H
X-Robots-Tag:noindex
X-PUBLISHED-TTL:PT1H
BEGIN:VTIMEZONE
TZID:Europe/Zurich
BEGIN:DAYLIGHT
TZOFFSETFROM:+0100
TZOFFSETTO:+0200
TZNAME:CEST
DTSTART:20170326T010000
END:DAYLIGHT
BEGIN:STANDARD
TZOFFSETFROM:+0200
TZOFFSETTO:+0100
TZNAME:CET
DTSTART:20171029T010000
END:STANDARD
BEGIN:DAYLIGHT
TZOFFSETFROM:+0100
TZOFFSETTO:+0200
TZNAME:CEST
DTSTART:20180325T010000
END:DAYLIGHT
BEGIN:STANDARD
TZOFFSETFROM:+0200
TZOFFSETTO:+0100
TZNAME:CET
DTSTART:20181028T010000
END:STANDARD
BEGIN:DAYLIGHT
TZOFFSETFROM:+0100
TZOFFSETTO:+0200
TZNAME:CEST
DTSTART:20190331T010000
END:DAYLIGHT
BEGIN:STANDARD
TZOFFSETFROM:+0200
TZOFFSETTO:+0100
TZNAME:CET
DTSTART:20191027T010000
END:STANDARD
END:VTIMEZONE
BEGIN:VEVENT
DTSTART;TZID=Europe/Zurich:20181130T100000
DTEND;TZID=Europe/Zurich:20181201T200000
DTSTAMP:20260421T220541
CREATED:20180528T220000Z
LAST-MODIFIED:20221124T223416Z
UID:58894-1543572000-1543694400@staging.sp-ps.ch
SUMMARY:Parteitag Brugg/Windisch (AG)
DESCRIPTION:Campussaal\, Bahnhofstrasse 6\, Brugg/Windisch \n\nMedienmitteilung vom 2. Dezember 2018: Versicherte entlasten: SP sagt Ja zur Lancierung der Prämienentlastungsinitiative\nMedienmitteilung vom 1. Dezember 2018: Eine zukunftsfähige Wirtschaft\, die den Menschen ins Zentrum stellt\nPositionspapier: Unsere Wirtschaft\nEuropa den Nationalisten und Fremdenfeinden überlassen oder für eine starke und soziale EU eintreten? Das ist die Wahl! \nGegen das Krankenkassendiktat bei der Gesundheitsfinanzierung\nKlimakrise stoppen – Wirtschaft ökologisch umbauen\nFür eine moderne und gerechte Sozialhilfe!\nSolidarität mit allen Regionen der Schweiz\nBezahlbaren Wohnraum für Alle – auch im Alter!\nRede von Simonetta Sommaruga\, Bundesrätin SP\nRede von Christian Levrat\, Präsident der SP Schweiz\nRede von Liliane Maury Pasquier\, Ständerätin GE\nRede von Ada Marra\, neue Vizepräsidentin der SP Schweiz\nRede von Paulo Pisco\, SP Portugal\, Abgeordneter im nationalen Parlament und in der parlamentarischen Versammlung des Europarats\nSchlussdokumentation inkl. definitiver Traktandenliste und allen eingereichten Anträgen\nSchlussdokumentation ‘Unsere Wirtschaft’ (mit Anträgen aus Frist 2)\nVersandheft 2 (Einladung an die Delegierten)\nAntragspapier ‘Unsere Wirtschaft’ (überarbeitete Fassung nach GL vom 26.10.18) \nAntragsformular ‘Unsere Wirtschaft’\nMerkblatt zu den Anträgen ‘Unsere Wirtschaft’\nGeschäftsbericht 2016 – 2017\nArbeitspapier der Geschäftsleitung vom 26.10.18 ‘Unsere Wirtschaft’\nVersand 1 (Einladung an die Sektionen)\nNeues Wirtschaftskonzept: Unsere Wirtschaft (Vorschläge für eine zukunftsfähige Wirtschaftspolitik 2019 – 2029)\nSektionsbüchlein (mit den Delegiertenzahlen für Sektionen)\nProtokoll Parteitag Thun vom 3./4.12.2016
URL:https://staging.sp-ps.ch/veranstaltung/parteitag-brugg-windisch-ag/
CATEGORIES:Parteitag
ATTACH;FMTTYPE=image/jpeg:https://staging.sp-ps.ch/wp-content/uploads/2022/08/campussaal.jpg
END:VEVENT
END:VCALENDAR