BEGIN:VCALENDAR
VERSION:2.0
PRODID:-//SP Schweiz - ECPv6.15.17.1//NONSGML v1.0//EN
CALSCALE:GREGORIAN
METHOD:PUBLISH
X-WR-CALNAME:SP Schweiz
X-ORIGINAL-URL:https://staging.sp-ps.ch
X-WR-CALDESC:Veranstaltungen für SP Schweiz
REFRESH-INTERVAL;VALUE=DURATION:PT1H
X-Robots-Tag:noindex
X-PUBLISHED-TTL:PT1H
BEGIN:VTIMEZONE
TZID:Europe/Zurich
BEGIN:DAYLIGHT
TZOFFSETFROM:+0100
TZOFFSETTO:+0200
TZNAME:CEST
DTSTART:20210328T010000
END:DAYLIGHT
BEGIN:STANDARD
TZOFFSETFROM:+0200
TZOFFSETTO:+0100
TZNAME:CET
DTSTART:20211031T010000
END:STANDARD
BEGIN:DAYLIGHT
TZOFFSETFROM:+0100
TZOFFSETTO:+0200
TZNAME:CEST
DTSTART:20220327T010000
END:DAYLIGHT
BEGIN:STANDARD
TZOFFSETFROM:+0200
TZOFFSETTO:+0100
TZNAME:CET
DTSTART:20221030T010000
END:STANDARD
BEGIN:DAYLIGHT
TZOFFSETFROM:+0100
TZOFFSETTO:+0200
TZNAME:CEST
DTSTART:20230326T010000
END:DAYLIGHT
BEGIN:STANDARD
TZOFFSETFROM:+0200
TZOFFSETTO:+0100
TZNAME:CET
DTSTART:20231029T010000
END:STANDARD
END:VTIMEZONE
BEGIN:VEVENT
DTSTART;TZID=Europe/Zurich:20220611T104500
DTEND;TZID=Europe/Zurich:20220611T160000
DTSTAMP:20260421T020157
CREATED:20211108T230000Z
LAST-MODIFIED:20230223T082143Z
UID:66899-1654944300-1654963200@staging.sp-ps.ch
SUMMARY:SP60+ Mitgliederkonferenz vom 11. Juni 2022
DESCRIPTION:SP60+ Mitgliederkonferenz vom 11. Juni 2022				\n				\n				\n				\n					\n		\n		\n		SP Schweiz\n			  Veranstaltungen\n		\n		\n		\n						\n				\n					\n		\n					\n		\n				\n						\n					\n			\n						\n				\n							\n			\n		\n						\n				\n					\n		\n					\n		\n				\n						\n					\n			\n						\n				\n																														\n				\n				\n				\n									Wirtschaftspolitik: Nicht ohne Steuergerechtigkeit!Mitgliederkonferenz vom Samstag\, 11. Juni 2022\,10.45 – 16.00 Uhr\, Hotel National\, Hirschengraben 24\, Bern Im Zentrum der Mitgliederkonferenz stand die Frage: Wie können wir die unverschämte Umverteilungspolitik mit Steuergeschenken für Privilegierte und Sozialabbau auf dem Rücken der Mehrheit der Bevölkerung stoppen? Für Fragen bitte ein E-mail an 60plus@spschweiz.ch. 								\n				\n				\n				\n					Präsentationen und Ergebnisse der MitgliederkonferenzMedienmitteilung vom 11. Juni 202221.04.2026Präsentation von David Gallusser21.04.2026Präsentation von Kaya Pawlowska zur Abstimmungskampagne «NEIN zu AHV 21»21.04.2026Präsentation von Ronja Jansen21.04.2026Rede von Christine Goll21.04.2026Resolution verabschiedet an der Mitgliederkonferenz vom 11.06.202221.04.2026Video und Fotogallerie21.04.2026Volksinitiative «Nationalbankgewinne für eine starke AHV» – online unterschreiben21.04.2026Whatsapp-Gruppe AHV 21 (zweisprachig)21.04.2026				\n				\n				\n				\n					Programm und Unterlagen für die MitgliederkonferenzProgramm/Traktandenliste der Mitgliederkonferenz vom 11. Juni 2022 (aktualisiert: 23.05.2022)21.04.2026				\n				\n				\n				\n					Unterlagen zu den statutarischen GeschäftenGeschäftsordnung und Wahlreglement21.04.2026Jahresbericht 202121.04.2026Protokoll der Mitgliederkonferenz vom 12.06.202121.04.2026
URL:https://staging.sp-ps.ch/veranstaltung/sp60-mitgliederkonferenz-vom-11-juni-2022/
ATTACH;FMTTYPE=image/jpeg:https://staging.sp-ps.ch/wp-content/uploads/2022/08/geld-sp-v1-scaled.jpg
END:VEVENT
END:VCALENDAR